BEGIN:VCALENDAR
VERSION:2.0
PRODID:-//MeadHall Range - ECPv6.14.0//NONSGML v1.0//EN
CALSCALE:GREGORIAN
METHOD:PUBLISH
X-WR-CALNAME:MeadHall Range
X-ORIGINAL-URL:https://meadhallrange.com
X-WR-CALDESC:Events for MeadHall Range
REFRESH-INTERVAL;VALUE=DURATION:PT1H
X-Robots-Tag:noindex
X-PUBLISHED-TTL:PT1H
BEGIN:VTIMEZONE
TZID:America/Chicago
BEGIN:DAYLIGHT
TZOFFSETFROM:-0600
TZOFFSETTO:-0500
TZNAME:CDT
DTSTART:20250309T080000
END:DAYLIGHT
BEGIN:STANDARD
TZOFFSETFROM:-0500
TZOFFSETTO:-0600
TZNAME:CST
DTSTART:20251102T070000
END:STANDARD
END:VTIMEZONE
BEGIN:VEVENT
DTSTART;TZID=America/Chicago:20250607T090000
DTEND;TZID=America/Chicago:20250607T170000
DTSTAMP:20260421T033826
CREATED:20250203T164858Z
LAST-MODIFIED:20250203T164858Z
UID:10000037-1749286800-1749315600@meadhallrange.com
SUMMARY:Palisade Training Group - Retention Distance Defensive Pistol
DESCRIPTION:Retention-Distance Defensive Pistol Skills may come into play when a weaker person is physically attacked by a larger\, stronger\, or more physically skilled violent criminal attacker or an attacker armed with a knife or  a blunt object like a claw hammer at distances in which there is a high probability that even if the defender is armed they may be injured or killed. Personal weapons such as hands\, fists\, and feet\, knives or other cutting instruments\, and blunt objects such as hammers are frequently the weapons of choice used against females at contact distances. Most armed defenders have never contemplated the need for retention shooting  techniques and skills and are likely far more vulnerable to being injured or worse in a deadly force encounter than they may be aware of.\nThis seven-hour clinic was  expressly designed for dealing with  attacks in which the assailant did not use a firearm normally employed at typical stand-off distances\, and focuses on methods of using a handgun at contact distances in order to increase the odds that they can force a break in contact between them and the attacker.  Palisade Training Group lead instructor Steve Moses is a former deputy constable as well as a Texas-licensed Level 4 Personal Protection Officer with experience in executive and dignitary close-protection who has studied under Tom Givens\, Craig Douglas\, Cecil Burch\, Tim Bulot\, Jerry Wetzel\, Paul Sharp\, Chuck Haggard\, and other nationally-known weapons and tactics instructors.  Moses is also a Combatives University and Relson Gracie Jiu Jitsu brown belt and a Tae Kwon Do black belt.\n​\nRequired Equipment\n\n\nConcealed carry pistol\, two magazines\, and rigid concealment holster (no offset from body)\n200 rounds of factory ammunition\nCover garment (highly recommended but not required)\nEye and ear protection\nLawn chair (recommended but not required)\nClosed collar shirt and cap with brim\n\n Class size is limited to 12 students.
URL:https://meadhallrange.com/event/palisade-training-group-retention-distance-defensive-pistol/
LOCATION:MeadHall Range\, 2181 S Blackberry Dr\, Mcloud\, OK\, 74851\, United States
END:VEVENT
END:VCALENDAR