BEGIN:VCALENDAR
VERSION:2.0
PRODID:-//MeadHall Range - ECPv6.14.0//NONSGML v1.0//EN
CALSCALE:GREGORIAN
METHOD:PUBLISH
X-WR-CALNAME:MeadHall Range
X-ORIGINAL-URL:https://meadhallrange.com
X-WR-CALDESC:Events for MeadHall Range
REFRESH-INTERVAL;VALUE=DURATION:PT1H
X-Robots-Tag:noindex
X-PUBLISHED-TTL:PT1H
BEGIN:VTIMEZONE
TZID:America/Chicago
BEGIN:DAYLIGHT
TZOFFSETFROM:-0600
TZOFFSETTO:-0500
TZNAME:CDT
DTSTART:20250309T080000
END:DAYLIGHT
BEGIN:STANDARD
TZOFFSETFROM:-0500
TZOFFSETTO:-0600
TZNAME:CST
DTSTART:20251102T070000
END:STANDARD
END:VTIMEZONE
BEGIN:VEVENT
DTSTART;TZID=America/Chicago:20251206T110000
DTEND;TZID=America/Chicago:20251206T203000
DTSTAMP:20260422T093616
CREATED:20250715T210938Z
LAST-MODIFIED:20250716T020639Z
UID:10000045-1765018800-1765053000@meadhallrange.com
SUMMARY:Cougar Mountain Solutions - Erick Gelhaus -West Coast Proactive Shotgun
DESCRIPTION:After reviewing nomenclature and relevant modifications\, this problem-solving-centric class focuses on using the shotgun within practical and Constitutional confines. The curriculum covers manipulating the weapon\, loading & unloading\, single and multiple threat engagements\, use of cover\, close-range engagements\, single projectile considerations\, and working around vehicles while understanding and accepting the platform’s limitations when dealing with the armed and violent. \nThis session will include a Low-Light / White Light segment.  \n \nEXPECTATIONS AND OUTCOMES \nUpon completing this course\, the student will have the mechanical skills to employ the shotgun during encounters with armed and violent subjects on foot\, in a structure\, or around a vehicle. \nSUBJECTS: \nPractical Safety & Human Factors; \nManipulations and Continuity of fire; \nPatterning\, Zeroing; \nExploiting the platform’s capabilities; \nAppropriate accessories; \nMovement & Positions; \nPractical Application; \nJudgment and decision-making; \n \nREQUIREMENTS \n\n\n14″ to 21″ shotgun w/sling\, viable sights\, weapon-mounted light; \n\n\nSupport equipment\, including extra ammunition carriers; \n\n\nHandgun & magazines; \n\n\nEye & ear protection; \n\n\nWeather-appropriate clothing; \n\n\nNote taking material; \n\n\nOptional – elbow & knee pads\, soft armor; \n\n\nAmmunition \n150 rounds of training birdshot or buckshot; \n25 rounds of quality defensive buckshot (#1B or 00B); \n15 slugs; \nNO Steel Shot! \n \n\n\nSCHEDULE \n\n\n  \n\n\nCourse cost is $250 plus a $30 facility fee due at signin. \n\n\n\nAbout Erick Gelhaus: \n\nWhat differentiates CMS and Erick Gelhaus from the other competent\, talented instructors out there? Why take a class from CMS? Good questions. Quite simply\, Gelhaus brings real experience from both the academic and practical application worlds to the classroom. \n  \nAfter lengthy careers in the military and law enforcement\, Erick’s grad school coursework focused on communicating about use-of-force issues. He is a well-published author\, with articles appearing in numerous print magazines and several online publications. \n​ \nGelhaus has taught the defensive use of firearms and tactics in the private sector – for Gunsite\, Aimpoint\, and others – to vetted citizens\, peace officers\, and service members since for more than 20 years.
URL:https://meadhallrange.com/event/cougar-mountain-solutions-erick-gelhaus-west-coast-proactive-shotgun/
LOCATION:MeadHall Range\, 2181 S Blackberry Dr\, Mcloud\, OK\, 74851\, United States
CATEGORIES:Shotgun
ORGANIZER;CN="Cougar Mountain Solutions":MAILTO:cmsolutions@sonic.net
END:VEVENT
END:VCALENDAR