BEGIN:VCALENDAR
VERSION:2.0
PRODID:-//MeadHall Range - ECPv6.14.0//NONSGML v1.0//EN
CALSCALE:GREGORIAN
METHOD:PUBLISH
X-WR-CALNAME:MeadHall Range
X-ORIGINAL-URL:https://meadhallrange.com
X-WR-CALDESC:Events for MeadHall Range
REFRESH-INTERVAL;VALUE=DURATION:PT1H
X-Robots-Tag:noindex
X-PUBLISHED-TTL:PT1H
BEGIN:VTIMEZONE
TZID:America/Chicago
BEGIN:DAYLIGHT
TZOFFSETFROM:-0600
TZOFFSETTO:-0500
TZNAME:CDT
DTSTART:20250309T080000
END:DAYLIGHT
BEGIN:STANDARD
TZOFFSETFROM:-0500
TZOFFSETTO:-0600
TZNAME:CST
DTSTART:20251102T070000
END:STANDARD
END:VTIMEZONE
BEGIN:VEVENT
DTSTART;TZID=America/Chicago:20251207T090000
DTEND;TZID=America/Chicago:20251207T180000
DTSTAMP:20260423T104732
CREATED:20250715T211308Z
LAST-MODIFIED:20250715T211820Z
UID:10000046-1765098000-1765130400@meadhallrange.com
SUMMARY:Cougar Mountain Solutions - Erick Gelhaus - Pistol Mounted Optics
DESCRIPTION:This one-day class focuses on the practical application of your optic and pistol. It covers distance\, movement\, multiple targets\, and more (regardless of your job). \n \nTOPICS COVERED \nWe are long past optics being novel. This session addresses their application with likely challenges. Topics include: \n\n\nVerification of zero; \n\n\nWorking from the ready and the holster \n\n\n\n\nMovement before and after shooting; \n\n\nShifting visual attention; \n\n\nMultiple target engagements and moving targets (if the range supports it); \n\n\nBroken & blocked optics; \n\n\nEngagement at distance; \n\n\nJudgment and decision-making will also be addressed. \n\n\n \nEXPECTATIONS AND OUTCOMES \nBy sessions’ end\, you’ll have experienced and gained comfort with using the optic from near-contact to the range’s allowable distance\, with movement\, and engaging multiple targets from both the ready and your holster. \n \nABILITY REQUIREMENTS \nExperience with your pistol-mounted optic\, including acquiring the dot under time constraints\, and accuracy sufficient to shoot Dyal’s 5 Yard Round-Up clean with a 3 second par time for each stage. Additionally\, the completion of a defensive handgun class that includes holster work/reloads/stoppages as well as an understanding of applying the 4 Safety Rules practically while working around your firearm while not hazarding your neighbor. \n  \nEQUIPMENT REQUIREMENTS \n\n\nNote-taking material; \n\n\nEye and ear protection; \n\n\nA pistol with an optic (loaners MAY be available with enough notice) and three magazines; \n\n\nAppropriate holster and mag pouches; \n\n\nAppropriate belt; \n\n\nExtra battery and tool to change it; \n\n\nAdjustment tool for the optic; \n\n\nPlease bring your lunch\, Scooby snacks\, caffeine\, and—of course—water. We will break\, but the less time we devote to lunch\, the more time we can spend on your dot; \n\n\nAppropriate range attire for the weather conditions; \n\n\nAmmunition: 250 rounds of reliable pistol ammunition \n\n\n\n\n\nCourse cost is $250 plus a $30 facility fee that is due at signin.  \n  \nAbout Erick Gelhaus: \nWhat differentiates CMS and Erick Gelhaus from the other competent\, talented instructors out there? Why take a class from CMS? Good questions. Quite simply\, Gelhaus brings real experience from both the academic and practical application worlds to the classroom. \n  \nAfter lengthy careers in the military and law enforcement\, Erick’s grad school coursework focused on communicating about use-of-force issues. He is a well-published author\, with articles appearing in numerous print magazines and several online publications. \n​ \nGelhaus has taught the defensive use of firearms and tactics in the private sector – for Gunsite\, Aimpoint\, and others – to vetted citizens\, peace officers\, and service members since for more than 20 years.
URL:https://meadhallrange.com/event/cougar-mountain-solutions-erick-gelhaus-pistol-mounted-optics/
LOCATION:MeadHall Range\, 2181 S Blackberry Dr\, Mcloud\, OK\, 74851\, United States
ORGANIZER;CN="Cougar Mountain Solutions":MAILTO:cmsolutions@sonic.net
END:VEVENT
END:VCALENDAR