BEGIN:VCALENDAR
VERSION:2.0
PRODID:-//MeadHall Range - ECPv6.14.0//NONSGML v1.0//EN
CALSCALE:GREGORIAN
METHOD:PUBLISH
X-WR-CALNAME:MeadHall Range
X-ORIGINAL-URL:https://meadhallrange.com
X-WR-CALDESC:Events for MeadHall Range
REFRESH-INTERVAL;VALUE=DURATION:PT1H
X-Robots-Tag:noindex
X-PUBLISHED-TTL:PT1H
BEGIN:VTIMEZONE
TZID:America/Chicago
BEGIN:DAYLIGHT
TZOFFSETFROM:-0600
TZOFFSETTO:-0500
TZNAME:CDT
DTSTART:20250309T080000
END:DAYLIGHT
BEGIN:STANDARD
TZOFFSETFROM:-0500
TZOFFSETTO:-0600
TZNAME:CST
DTSTART:20251102T070000
END:STANDARD
END:VTIMEZONE
BEGIN:VEVENT
DTSTART;TZID=America/Chicago:20250524T080000
DTEND;TZID=America/Chicago:20250524T173000
DTSTAMP:20260422T165023
CREATED:20250319T010244Z
LAST-MODIFIED:20250319T010244Z
UID:10000039-1748073600-1748107800@meadhallrange.com
SUMMARY:Agile Training and Consulting - Chuck Haggard - Close Quarters Handgun
DESCRIPTION:This class covers material that I have taught over the past couple of decades to both police officers and concealed carry people and has been proven multiple times on the street in real world encounters. \nNote; this is not a basic handgun class. \nWe will explore the following subjects; \nThe use of a concealed carry handgun or police service pistol in the MUC (managing unknown contacts) environment\, the criminal assault paradigm\, tactics\, techniques\, and issues with defensive use and deployment of handguns at contact/near contact and very close ranges \nConsiderations in drawing a handgun at contact and near contact ranges\, entangled in-fight weapons access issues\, and drawing/firing from non-standard positions \nEfficient draw stroke. Close quarters shooting techniques. Grip\, trigger control\, recoil control\, Weapon retention and disarming/deflection. Striking with pistols \nWorking around bystanders or family members in close quarters\, and the “down-range” friendlies problem\, \nHandgun retention and disarming\, when to draw your handgun and when to go hands on in a close quarters attack\, effectively using the pistol as an impact weapon in extremis\, \nWound ballistics\, ammunition selection and “Tactical Anatomy”\, \nReloads and malfunction clearances \nStudent requirements: \nA reliable/serviceable handgun; service-sized pistols 9mm/.40S&W/.45ACP\, etc. are preferred. However\, smaller concealed carry or back-up pistols may be used as a primary\, or brought to class as an extra pistol and their use discussed and worked on. \nA quality strong side or appendix carry outside or inside the waistband holster from which the shooter can safely draw and re-holster with one hand. A police or security duty type belt rig would also be acceptable. \nSoft clip-on or nylon type holsters\, or holsters that collapse and disallow re-holstering with one hand\, or shoulder holsters\, are unsuitable and unsafe for this type of training. \nPlease do not bring a Serpa holster unless you are required by agency policy to carry one \n350 rounds of ammunition is needed for this class (if you like to shoot\, you might want to bring more\, but 350 will get you by…) \nI can provide dummy ammunition in 9mm\, .40S&W and .45ACP for use in some of the drills we will be conducting. If you are carrying a caliber different than one of these please bring at least six dummy rounds in the correct caliber with you. \nEye and hearing protection; active type shooting muffs are highly suggested so that range commands can be clearly heard. Ball cap or other hat/cap with a bill. \nI will be providing dummy handguns for some of the training in this class. I have several Glock 17/22 sized dummy guns and other types of handguns. However\, if a student has a dummy gun of their own that they use for training then feel free to bring that to class. \nMead Hall has an excellent range and classroom facility\, but is a ways out of town and there are no close places to eat. Please bring water and food/snacks for lunch. \nQuestions ref the class can be directed to chuck@agiletactical.com \nI have covered the event fees in the tuition\, however the host range has a $30 cash range fee due at the begining of class
URL:https://meadhallrange.com/event/agile-training-and-consulting-chuck-haggard-close-quarters-handgun/
LOCATION:MeadHall Range\, 2181 S Blackberry Dr\, Mcloud\, OK\, 74851\, United States
ORGANIZER;CN="Agile Training Chuck Haggard":MAILTO:chuck@agiletactical.com
END:VEVENT
BEGIN:VEVENT
DTSTART;TZID=America/Chicago:20250525T080000
DTEND;TZID=America/Chicago:20250525T180000
DTSTAMP:20260422T165023
CREATED:20250319T011159Z
LAST-MODIFIED:20250319T011159Z
UID:10000040-1748160000-1748196000@meadhallrange.com
SUMMARY:Agile Training and Consulting- Chuck Haggard- OC Instructor
DESCRIPTION:This is an instructor level course primarily geared towards covering the subject of less than lethal options for everyday people\, CCW carriers\, or even on duty/off duty cops. \nThis course will cover the subject of less than deadly force defensive tools and tactics\, and options\, with an emphasis on OC spray as a defensive tool. \nAlso addressed are how to avoid becoming a crime victim\, tactics of the street criminal\, the MUC paradigm (Managing Unknown Contact) and where less than lethal weapons come into play to avoid becoming a victim of violent crime\, de-escalation tactics\, verbal agility\, transitioning to deadly force (if appropriate)\, product selection\, interactive student scenario drilling of skills. \nThis class is suitable for anyone wanting to take a deep dive into the subject of avoiding being the victim of a “street crime”\, or folks who are CCW or firearms instructors and who want to expand their knowledge base beyond the gun. \nThis class will run approximately 9 hours\, depending on student numbers\, due to the extensive amount of drilling and material presented. \nStudents will need to bring a dummy pistol and holster (if they are a CCW carrier\, instructor\, etc.) in order to fully participate in all of the drills. Otherwise only note taking materials are required. \nThere is no use of live OC in this course\, all drills will be completed with inert OC trainers. \nMead Hall has an excellent and comfortable classroom\, however it is a ways from town or any place to eat. Please bring water and food/snacks with you for lunch. \nI have covered the event fees in the tuition\, however the host range has a $30 cash range fee due at the start of class. \nQuestions can be directed to chuck@agiletactical.com
URL:https://meadhallrange.com/event/agile-training-and-consulting-chuck-haggard-oc-instructor/
LOCATION:MeadHall Range\, 2181 S Blackberry Dr\, Mcloud\, OK\, 74851\, United States
ORGANIZER;CN="Agile Training Chuck Haggard":MAILTO:chuck@agiletactical.com
END:VEVENT
END:VCALENDAR