BEGIN:VCALENDAR
VERSION:2.0
PRODID:-//MeadHall Range - ECPv6.14.0//NONSGML v1.0//EN
CALSCALE:GREGORIAN
METHOD:PUBLISH
X-WR-CALNAME:MeadHall Range
X-ORIGINAL-URL:https://meadhallrange.com
X-WR-CALDESC:Events for MeadHall Range
REFRESH-INTERVAL;VALUE=DURATION:PT1H
X-Robots-Tag:noindex
X-PUBLISHED-TTL:PT1H
BEGIN:VTIMEZONE
TZID:America/Chicago
BEGIN:DAYLIGHT
TZOFFSETFROM:-0600
TZOFFSETTO:-0500
TZNAME:CDT
DTSTART:20250309T080000
END:DAYLIGHT
BEGIN:STANDARD
TZOFFSETFROM:-0500
TZOFFSETTO:-0600
TZNAME:CST
DTSTART:20251102T070000
END:STANDARD
END:VTIMEZONE
BEGIN:VEVENT
DTSTART;TZID=America/Chicago:20250621T080000
DTEND;TZID=America/Chicago:20250621T170000
DTSTAMP:20260419T201757
CREATED:20250222T050939Z
LAST-MODIFIED:20250222T050939Z
UID:10000038-1750492800-1750525200@meadhallrange.com
SUMMARY:Lone Star Medics - Caleb Causey - Med Preparedness
DESCRIPTION:You are on your own… plan for it.\nThis one-day course provides students with the medical knowledge\, skills\, and resources to be better prepared for various unfortunate events in their community.  Over the years it has become more and more apparent that even brief\, let alone long-term breakdowns in government ran infrastructure/systems can leave communities and individual families to fend for themselves.  Some of those affected systems may include EMS or entire hospitals in some regions.  Which means basic medical care is the responsibility of each neighborhood or household.  The “Med Prep” course prepares students for such scenarios. \nSubjects covered\n– Establishing immediate medical response teams\n            duties/responsibilities at individual\, family\, neighborhood level\n– Developing a field aid station or field clinic (aka “first aid” station)\n– Medical equipment selection\, maintenance\, and resupply\n            level I-IV med kits\n            trauma; tactical/field/clinical\n            diagnostic\n            monitoring\n            wound management\n            chronic treatment planning\n– Cross-training and introduction to teaching methods\n– Home pharmacy; building and maintaining your preparedness “medicine cabinet”\n– Field hygiene and preventive medicine\n– Non-emergency medical… emergencies\n            labor & delivery\n            mortuary affairs\n            dental\n            tummy aches\n            coughs & sniffles\n            sprains & strains\n            itchy rashes\n– Building medical caches\n– Adaptive transportation/EVAC planning\n– Mental Health/Wellness\n– Complementary and Alternative Medicine (because at this point\, why not)
URL:https://meadhallrange.com/event/lone-star-medics-caleb-causey-med-preparedness/
LOCATION:MeadHall Range\, 2181 S Blackberry Dr\, Mcloud\, OK\, 74851\, United States
ORGANIZER;CN="Lone Star Medics":MAILTO:info@lonestarmedics.com
END:VEVENT
END:VCALENDAR